BEGIN:VCALENDAR
VERSION:2.0
PRODID:-//Kingwood TEA Party - ECPv5.0.2//NONSGML v1.0//EN
CALSCALE:GREGORIAN
METHOD:PUBLISH
X-WR-CALNAME:Kingwood TEA Party
X-ORIGINAL-URL:https://www.kingwoodteaparty.com
X-WR-CALDESC:Events for Kingwood TEA Party
BEGIN:VTIMEZONE
TZID:America/Chicago
BEGIN:DAYLIGHT
TZOFFSETFROM:-0600
TZOFFSETTO:-0500
TZNAME:CDT
DTSTART:20170312T080000
END:DAYLIGHT
BEGIN:STANDARD
TZOFFSETFROM:-0500
TZOFFSETTO:-0600
TZNAME:CST
DTSTART:20171105T070000
END:STANDARD
END:VTIMEZONE
BEGIN:VEVENT
DTSTART;TZID=America/Chicago:20170706T190000
DTEND;TZID=America/Chicago:20170706T203000
DTSTAMP:20260423T143208
CREATED:20170615T025327Z
LAST-MODIFIED:20170615T025817Z
UID:4692-1499367600-1499373000@www.kingwoodteaparty.com
SUMMARY:TX Sen Donna Campbell Visits KWTP! Thur 7/6/17
DESCRIPTION:\nWHO:……….Sen. Donna Campbell\, SD-25\nWHERE:…..Tin Roof BBQ\n………………..18918 Town Center Blvd\,\n………………..Humble\, Texas 77346\n………………..Scroll down for map.\nWHEN:…….Thursday\, July 6\nTIME:……….7 PM – 8:30 PM\nRSVP:……….Email Jim at.jim@kingwoodteaparty.com\n………………..Subject: 7/6/17 RSVP – Sen. Campbell \n  \n
URL:https://www.kingwoodteaparty.com/event/tx-sen-donna-campbell/
LOCATION:Tin Roof BBQ & Steakhouse\, 18918 Town Center Blvd.\, Atascocita\, TX
CATEGORIES:KWTP General Meeting - Atascocita
END:VEVENT
END:VCALENDAR