BEGIN:VCALENDAR
VERSION:2.0
PRODID:-//Kingwood TEA Party - ECPv5.0.2//NONSGML v1.0//EN
CALSCALE:GREGORIAN
METHOD:PUBLISH
X-WR-CALNAME:Kingwood TEA Party
X-ORIGINAL-URL:https://www.kingwoodteaparty.com
X-WR-CALDESC:Events for Kingwood TEA Party
BEGIN:VTIMEZONE
TZID:America/Chicago
BEGIN:DAYLIGHT
TZOFFSETFROM:-0600
TZOFFSETTO:-0500
TZNAME:CDT
DTSTART:20160313T080000
END:DAYLIGHT
BEGIN:STANDARD
TZOFFSETFROM:-0500
TZOFFSETTO:-0600
TZNAME:CST
DTSTART:20161106T070000
END:STANDARD
END:VTIMEZONE
BEGIN:VEVENT
DTSTART;TZID=America/Chicago:20161027T190000
DTEND;TZID=America/Chicago:20161027T210000
DTSTAMP:20260423T143356
CREATED:20161011T162136Z
LAST-MODIFIED:20161011T162245Z
UID:4609-1477594800-1477602000@www.kingwoodteaparty.com
SUMMARY:TX Sen. Don Huffines Visits KWTP at Tin Roof BBQ\, Thursday\, 10/27/16
DESCRIPTION:Join us at 6 pm to dine and visit with fellow Conservatives. \n
URL:https://www.kingwoodteaparty.com/event/tx-sen-don-huffines-visits-kwtp-on-thursday/
LOCATION:Tin Roof BBQ & Steakhouse\, 18918 Town Center Blvd.\, Atascocita\, TX
CATEGORIES:KWTP General Meeting - Atascocita
END:VEVENT
END:VCALENDAR