BEGIN:VCALENDAR
VERSION:2.0
PRODID:-//Kingwood TEA Party - ECPv5.0.2//NONSGML v1.0//EN
CALSCALE:GREGORIAN
METHOD:PUBLISH
X-WR-CALNAME:Kingwood TEA Party
X-ORIGINAL-URL:https://www.kingwoodteaparty.com
X-WR-CALDESC:Events for Kingwood TEA Party
BEGIN:VTIMEZONE
TZID:America/Chicago
BEGIN:DAYLIGHT
TZOFFSETFROM:-0600
TZOFFSETTO:-0500
TZNAME:CDT
DTSTART:20170312T080000
END:DAYLIGHT
BEGIN:STANDARD
TZOFFSETFROM:-0500
TZOFFSETTO:-0600
TZNAME:CST
DTSTART:20171105T070000
END:STANDARD
END:VTIMEZONE
BEGIN:VEVENT
DTSTART;TZID=America/Chicago:20170619T190000
DTEND;TZID=America/Chicago:20170619T203000
DTSTAMP:20260423T143904
CREATED:20170604T164358Z
LAST-MODIFIED:20170604T165355Z
UID:4674-1497898800-1497904200@www.kingwoodteaparty.com
SUMMARY:TX Sen. Brandon Creighton Visits KWTP June 19\, 2017 at Los Cucos - Kingwood
DESCRIPTION:Join us at Los Cucos on Monday\, June 19\, 2017 and hear about the 85th Legislative Session. Please click here to RSVP (to jim@kingwoodteaparty.com Subject: RSVP 6/19/17 Sen. Creighton & Number Attending. \n
URL:https://www.kingwoodteaparty.com/event/tx-sen-brandon-creighton-visits-kwtp-june-19-2017-at-los-cucos-kingwood/
LOCATION:Los Cucos – Kingwood\, 23730 Hwy 59 North\, Kingwood\, TX\, 77339
CATEGORIES:General Meeting - Kingwood
END:VEVENT
END:VCALENDAR