BEGIN:VCALENDAR
VERSION:2.0
PRODID:-//Kingwood TEA Party - ECPv5.0.2//NONSGML v1.0//EN
CALSCALE:GREGORIAN
METHOD:PUBLISH
X-WR-CALNAME:Kingwood TEA Party
X-ORIGINAL-URL:https://www.kingwoodteaparty.com
X-WR-CALDESC:Events for Kingwood TEA Party
BEGIN:VTIMEZONE
TZID:America/Chicago
BEGIN:DAYLIGHT
TZOFFSETFROM:-0600
TZOFFSETTO:-0500
TZNAME:CDT
DTSTART:20170312T080000
END:DAYLIGHT
BEGIN:STANDARD
TZOFFSETFROM:-0500
TZOFFSETTO:-0600
TZNAME:CST
DTSTART:20171105T070000
END:STANDARD
END:VTIMEZONE
BEGIN:VEVENT
DTSTART;TZID=America/Chicago:20170711T170000
DTEND;TZID=America/Chicago:20170711T183000
DTSTAMP:20260423T143355
CREATED:20170710T222446Z
LAST-MODIFIED:20170710T222657Z
UID:4768-1499792400-1499797800@www.kingwoodteaparty.com
SUMMARY:SEN. BRANDON CREIGHTON\, SD-4 – TOMORROW: Tue.\, 7/11/17 at 5 - 6:30 pm
DESCRIPTION: \nThe Woodlands District Office \nOpen House \nTuesday\, July 11\, 2017;  5pm – 6:30pm\n2829 Technology Forest Blvd\, Suite 240\nThe Woodlands\, Texas 77381 \n(across the parking lot from Black Walnut Café) \nPlease RSVP \nChristie.Siedhoff@senate.texas.gov \n281.292.4128 \n  \n
URL:https://www.kingwoodteaparty.com/event/sen-creighton-tomorrow-tue-71117/
LOCATION:Sen. Brandon Creighton’s Woodland’s Office\, 2839 Technology Forest Blvd.\, Ste. 240\, The Woodlands\, TX\, 77381\, United States
END:VEVENT
END:VCALENDAR