BEGIN:VCALENDAR
VERSION:2.0
PRODID:-//Kingwood TEA Party - ECPv5.0.2//NONSGML v1.0//EN
CALSCALE:GREGORIAN
METHOD:PUBLISH
X-WR-CALNAME:Kingwood TEA Party
X-ORIGINAL-URL:https://www.kingwoodteaparty.com
X-WR-CALDESC:Events for Kingwood TEA Party
BEGIN:VTIMEZONE
TZID:America/Chicago
BEGIN:DAYLIGHT
TZOFFSETFROM:-0600
TZOFFSETTO:-0500
TZNAME:CDT
DTSTART:20170312T080000
END:DAYLIGHT
BEGIN:STANDARD
TZOFFSETFROM:-0500
TZOFFSETTO:-0600
TZNAME:CST
DTSTART:20171105T070000
END:STANDARD
END:VTIMEZONE
BEGIN:VEVENT
DTSTART;TZID=America/Chicago:20170907T190000
DTEND;TZID=America/Chicago:20170907T190000
DTSTAMP:20260423T145211
CREATED:20170822T183328Z
LAST-MODIFIED:20170826T224258Z
UID:4822-1504810800-1504810800@www.kingwoodteaparty.com
SUMMARY:Thur.\, 9/7 Atascocita MTG CANCELLED at Tin Roof:Join Us on the 8th for Freedom Rally!
DESCRIPTION: \nJoin us instead at our Friday\, Sept. 8th Freedom Rally! \n \n
URL:https://www.kingwoodteaparty.com/event/no-kwtp-general-meeting-atascocita-090717/
CATEGORIES:MEETING CANCELLED
END:VEVENT
END:VCALENDAR