BEGIN:VCALENDAR
VERSION:2.0
PRODID:-//Kingwood TEA Party - ECPv5.0.2//NONSGML v1.0//EN
CALSCALE:GREGORIAN
METHOD:PUBLISH
X-WR-CALNAME:Kingwood TEA Party
X-ORIGINAL-URL:https://www.kingwoodteaparty.com
X-WR-CALDESC:Events for Kingwood TEA Party
BEGIN:VTIMEZONE
TZID:America/Chicago
BEGIN:DAYLIGHT
TZOFFSETFROM:-0600
TZOFFSETTO:-0500
TZNAME:CDT
DTSTART:20140309T080000
END:DAYLIGHT
BEGIN:STANDARD
TZOFFSETFROM:-0500
TZOFFSETTO:-0600
TZNAME:CST
DTSTART:20141102T070000
END:STANDARD
END:VTIMEZONE
BEGIN:VEVENT
DTSTART;TZID=America/Chicago:20141120T183000
DTEND;TZID=America/Chicago:20141120T203000
DTSTAMP:20260424T201417
CREATED:20141115T202509Z
LAST-MODIFIED:20141115T203430Z
UID:3361-1416508200-1416515400@www.kingwoodteaparty.com
SUMMARY:KWTP Leadership Meeting
DESCRIPTION:Join us at our next KWTP Leadership Meeting…even if you did not receive an email from us.\nPlease email Robin at robin@kingwoodteaparty.com so we can set up the room for everyone attending our next KWTP Leadership Meeting with us! \n
URL:https://www.kingwoodteaparty.com/event/kwtp-leadership-meeting/
LOCATION:Green Oak Diagnostics Conference Room\, 9802 FM 1960 Bypass Rd W #100\, Humble\, TX\, 77338
CATEGORIES:Leadership Meeting
END:VEVENT
END:VCALENDAR