BEGIN:VCALENDAR
VERSION:2.0
PRODID:-//Kingwood TEA Party - ECPv5.0.2//NONSGML v1.0//EN
CALSCALE:GREGORIAN
METHOD:PUBLISH
X-WR-CALNAME:Kingwood TEA Party
X-ORIGINAL-URL:https://www.kingwoodteaparty.com
X-WR-CALDESC:Events for Kingwood TEA Party
BEGIN:VTIMEZONE
TZID:America/Chicago
BEGIN:DAYLIGHT
TZOFFSETFROM:-0600
TZOFFSETTO:-0500
TZNAME:CDT
DTSTART:20170312T080000
END:DAYLIGHT
BEGIN:STANDARD
TZOFFSETFROM:-0500
TZOFFSETTO:-0600
TZNAME:CST
DTSTART:20171105T070000
END:STANDARD
END:VTIMEZONE
BEGIN:VEVENT
DTSTART;TZID=America/Chicago:20170908T170000
DTEND;TZID=America/Chicago:20170908T210000
DTSTAMP:20260423T143313
CREATED:20170628T065022Z
LAST-MODIFIED:20170829T224937Z
UID:4717-1504890000-1504904400@www.kingwoodteaparty.com
SUMMARY:POSTPONED: 2017 KWTP Freedom Rally Has Been Postponed!
DESCRIPTION:POSTPONED: 2017 KWTP Freedom Rally Has Been Postponed! \nNEW DATE: TO BE DETERMINED \nHurricane Harvey has devastated The Houston area and Kingwood.\nThis is a time for all of us affected to come together and work to rebuild. \nWe will set a date sometime before the Primary election in early 2018. \nThank you for your interest in our event and to all our Texas elected officials who were coming to support our efforts. Hope to see you there in 2018. \nCordially\, \nRobin \n
URL:https://www.kingwoodteaparty.com/event/kwtp-freedom-rally-090817/
LOCATION:Nathaniel Center\, 804 Russell Palmer Rd\, Kingwood\, 77339\, United States
CATEGORIES:Constitution Day Celebration & Freedom Rally
END:VEVENT
END:VCALENDAR