BEGIN:VCALENDAR
VERSION:2.0
PRODID:-//Kingwood TEA Party - ECPv5.0.2//NONSGML v1.0//EN
CALSCALE:GREGORIAN
METHOD:PUBLISH
X-WR-CALNAME:Kingwood TEA Party
X-ORIGINAL-URL:https://www.kingwoodteaparty.com
X-WR-CALDESC:Events for Kingwood TEA Party
BEGIN:VTIMEZONE
TZID:America/Chicago
BEGIN:DAYLIGHT
TZOFFSETFROM:-0600
TZOFFSETTO:-0500
TZNAME:CDT
DTSTART:20170312T080000
END:DAYLIGHT
BEGIN:STANDARD
TZOFFSETFROM:-0500
TZOFFSETTO:-0600
TZNAME:CST
DTSTART:20171105T070000
END:STANDARD
END:VTIMEZONE
BEGIN:VEVENT
DTSTART;TZID=America/Chicago:20170821T190000
DTEND;TZID=America/Chicago:20170821T203000
DTSTAMP:20260423T143521
CREATED:20170628T220655Z
LAST-MODIFIED:20170628T224337Z
UID:4732-1503342000-1503347400@www.kingwoodteaparty.com
SUMMARY:Chairman of House Ways & Means Rep. Kevin Brady | Mon.\, 8/21/2017 | Los Cucos - Kingwood
DESCRIPTION:U.S. Rep. Kevin Brady House Ways/Means Chair \nWHO:……U.S. Rep. Kevin Brady (House Ways & Means Chairman)\nWHEN:…Mon.\, Aug. 21\, 2017 at 7 pm – 8:30 pm\n………………Come early to dine and get good seat!\nWHAT:   Kingwood TEA Party Guest Speaker\nWHERE:.Los Cucos – Kingwood\n………………23730 US-59\, Kingwood\, TX 77339\nRSVP:    Jim at jim@kingwoodteaparty.com\n……………..Subject: RSVP 8-21-17 Rep. Brady \n  \n\nSome Recent Information about Rep. Kevin Brady: \nA Victory For Veterans \nA Day of Miracles Article & Rep. Brady’s Audio Interview w/Lance Roberts \nBrady Returns Home After Harrowing Week In DC; Roommate Scalise’s Health On His Mind \nCommentary: Ways and Means Chairman Kevin Brady can put his stamp on history\, Article & Audio – Chris Salcedo\, The Blaze \nRep. Kevin Brady’s:   Twitter Feed   |   Facebook Page \n
URL:https://www.kingwoodteaparty.com/event/chairman-house-ways-means-rep-kevin-brady-mon-8212017-los-cucos-kingwood/
CATEGORIES:General Meeting - Kingwood
END:VEVENT
END:VCALENDAR